BEGIN:VCALENDAR
VERSION:2.0
PRODID:-//Eventin//Event Calendar//EN
CALSCALE:GREGORIAN
METHOD:PUBLISH
BEGIN:VEVENT
UID:7343f1e1cb291a02cf6eb7a8300ea46b@amhigahispana.org
SUMMARY:Martes Social Norte
DESCRIPTION:¡Estas invitada a nuestro Martes Social Norte! Ven y comparte 
 con mas emprendedoras Hispano-parlantes\, haz amigas y promociona tu produc
 to o servicio de una forma no invasiva. ¡Bienvenida Amhiga Hispana! Somos 
 una organización sin fines de lucro fundada en Austin Texas\, nuestra misi
 ón es impulsar y apoyar a la mujer de habla hispana por medio de la educac
 ión. Amhiga Hispana se enfoca en 4 áreas de desarrollo integral de un ser
  humano que son: crecimiento cívico\, financiero\, salud y social. Actualm
 ente contamos con 5 plataformas nuestra organización se reúne periódicam
 ente en diferentes centros comunitarios alrededor de la ciudad de Austin y 
 ofrece diversas actividades y talleres\, conferencias\, seminarios para su 
 formación y crecimiento. Buscamos integrarnos en una comunidad donde las m
 ujeres adquieran todas las herramientas necesarias e información y maximic
 en sus habilidades como símbolo de poder. Esperamos que puedas acompañarn
 os.
LOCATION:Braseros Mexican Restaurant (Previamente Taqueria Guadalajara) 920
 7 N Lamar Blvd\, Austin\, Tx 78753
DTSTAMP:20260423T161530Z
DTSTART:20240611T173000Z
DTEND:20260423T203000Z
END:VEVENT
END:VCALENDAR
