BEGIN:VCALENDAR
VERSION:2.0
PRODID:-//Eventin//Event Calendar//EN
CALSCALE:GREGORIAN
METHOD:PUBLISH
BEGIN:VEVENT
UID:e477413044a86e800d7c81cfd8d9ccfb@amhigahispana.org
SUMMARY:Miércoles Profesional – ¡Sí\, soy dueña de mi empresa!
DESCRIPTION:Fecha: Junio 5Hora: 5:30pm a 8:15pmLugar:ACC Highland CampusSal
 ón 1.22176101 Highland Campus DrAustin\, Tx 78752\n\n\n\nTítulo: ¡Sí\, 
 soy dueña de mi empresa!\n\n\n\nFacilita: El equipo de la incubadora de Ne
 gocios\, Economic Growth Business Incubator (EGBI)\n\n\n\n¿Para quién es 
 este taller?Para toda mujer emprendedora que desee estructurar su negocio c
 orrectamente desde el inicio\, asegurando el cumplimiento de todas las norm
 ativas y desarrollando habilidades empresariales esenciales de todo emprend
 imiento.\n\n\n\n¿Qué aprenderás?¡Prácticas fáciles de implementar par
 a ser dueña de una empresa redituable y exitosa!\n\n\n\n¿Quién EGBI?Econ
 omic Growth Business Incubator (EGBI) es una organización sin fines de luc
 ro dedicada a proporcionar capacitación\, asesoramiento y apoyo a emprende
 dores y dueños de negocios que enfrentan barreras para hacer crecer un neg
 ocio exitoso. Nuestros servicios son prácticamente gratuitos y están dise
 ñados para ayudar tanto a empresas en estado de diseño como a aquellas qu
 e han estado operando por menos de cinco años\, asegurando que sean reditu
 ables\, sustentables y un bien para nuestra comunidad.\n\n\n\nNo pierdas la
  oportunidad de llevar tu negocio al siguiente nivel con el apoyo de expert
 os comprometidos con tu éxito.\n\n\n\n¿Qué necesitas para este taller?\n
 \n\n\n✅ Un cuaderno de notas y lapicero✅ Tus tarjetas de presentación
 ✅ Si quieres promocionar tu negocio\, puedes traer folletos✅ Un regalo 
 para rifar a nombre de tu emprendimiento (opcional)🍪 Este taller incluye
  refrigerios\n\n\n\n🍪 Este taller incluye refrigerios
LOCATION:6101 Highland Campus Dr. Austin\, TX 78752
DTSTAMP:20260423T161413Z
DTSTART:20240605T173000Z
DTEND:20260423T203000Z
END:VEVENT
END:VCALENDAR
